View In:
ArcGIS JavaScript
ArcGIS.com Map
Google Earth
ArcMap
View Footprint In:
ArcGIS.com Map
Service Description:
Name: BoltonCamp/BoltonCamp_Ortho
Description: BoltonCamp/BoltonCamp_Ortho
Single Fused Map Cache: true
Tile Info:
- Height: 256
- Width: 256
- DPI: 96
-
Levels of Detail: 20
-
Level ID: 0
[ Start Tile, End Tile ]
- Resolution: 156543.03392800014
- Scale: 5.91657527591555E8
-
Level ID: 1
[ Start Tile, End Tile ]
- Resolution: 78271.51696399994
- Scale: 2.95828763795777E8
-
Level ID: 2
[ Start Tile, End Tile ]
- Resolution: 39135.75848200009
- Scale: 1.47914381897889E8
-
Level ID: 3
[ Start Tile, End Tile ]
- Resolution: 19567.87924099992
- Scale: 7.3957190948944E7
-
Level ID: 4
[ Start Tile, End Tile ]
- Resolution: 9783.93962049996
- Scale: 3.6978595474472E7
-
Level ID: 5
[ Start Tile, End Tile ]
- Resolution: 4891.96981024998
- Scale: 1.8489297737236E7
- Format: JPEG
- Compression Quality: 75.0
- LERC Error: NaN
- Origin:
X: -2.0037508342787E7
Y: 2.0037508342787E7
- Spatial Reference:
102100
(3857)
Extent:
XMin: -8876229.90598515
YMin: 5447787.09420543
XMax: -8874093.209157731
YMax: 5449936.68980634
Spatial Reference:
102100
(3857)
Initial Extent:
XMin: -8876229.90598515
YMin: 5447787.09420543
XMax: -8874093.209157731
YMax: 5449936.68980634
Spatial Reference:
102100
(3857)
Full Extent:
XMin: -8876229.90598515
YMin: 5447787.09420543
XMax: -8874093.209157731
YMax: 5449936.68980634
Spatial Reference:
102100
(3857)
Pixel Size X: 0.14998573827173256
Pixel Size Y: 0.14998573827173353
Band Count: 3
Pixel Type: U16
RasterFunction Infos: N/A
Mensuration Capabilities: Basic
Has Histograms: true
Has Colormap: false
Has Multi Dimensions : false
Rendering Rule:
Min Scale: 36111.909643
Max Scale: 1128.497176
Copyright Text: Toronto and Region Conservation
Service Data Type: esriImageServiceDataTypeGeneric
Min Values: 28, 33, 29
Max Values: 276, 277, 280
Mean Values: 117.27910124225703, 117.20733227176264, 116.6185944705697
Standard Deviation Values: 36.455036950121645, 31.4096312935488, 26.87445275519433
Object ID Field:
Fields:
None
Default Mosaic Method: Center
Allowed Mosaic Methods:
SortField:
SortValue: null
Mosaic Operator: First
Default Compression Quality: 75
Default Resampling Method: Bilinear
Max Record Count: null
Max Image Height: 4100
Max Image Width: 15000
Max Download Image Count: null
Max Mosaic Image Count: null
Allow Raster Function: true
Allow Compute TiePoints: false
Supports Statistics: false
Supports Advanced Queries: false
Use StandardizedQueries: true
Raster Type Infos:
Name: Raster Dataset
Description: Supports all ArcGIS Raster Datasets
Help:
Has Raster Attribute Table: false
Edit Fields Info: null
Ownership Based AccessControl For Rasters: null
Child Resources:
Info
Histograms
Key Properties
Legend
MultiDimensionalInfo
rasterFunctionInfos
Supported Operations:
Export Image
Identify
Measure
Compute Histograms
Get Samples
Compute Class Statistics